BEGIN:VCALENDAR
PRODID:-//AT Content Types//AT Event//EN
VERSION:2.0
METHOD:PUBLISH
BEGIN:VEVENT
DTSTAMP:20260420T003302Z
CREATED:20260305T180310Z
UID:ATEvent-06e70464c3bc48b38fd0616460b48964
LAST-MODIFIED:20260305T180313Z
SUMMARY:Jornada Enroca't
DTSTART:20260207T090000Z
DTEND:20260207T120000Z
LOCATION:Sala Cultural
CONTACT:Consell Esportiu Pla d'Urgell
URL:https://www.ceplaurgell.cat
CLASS:PUBLIC
END:VEVENT
END:VCALENDAR
