BEGIN:VCALENDAR
PRODID:-//AT Content Types//AT Event//EN
VERSION:2.0
METHOD:PUBLISH
BEGIN:VEVENT
DTSTAMP:20260420T003439Z
CREATED:20260305T191351Z
UID:ATEvent-3dfd637733e64ecf83b2efbc8b44d797
LAST-MODIFIED:20260305T191353Z
SUMMARY:KINGS LEAGUE D’HOQUEI
DTSTART:20250716T193000Z
DTEND:20250716T211500Z
LOCATION:Pavelló poliesportiu
CLASS:PUBLIC
END:VEVENT
END:VCALENDAR
