BEGIN:VCALENDAR
PRODID:-//AT Content Types//AT Event//EN
VERSION:2.0
METHOD:PUBLISH
BEGIN:VEVENT
DTSTAMP:20260420T003926Z
CREATED:20260305T192625Z
UID:ATEvent-58f187979b444e638fd13a3ea5d75636
LAST-MODIFIED:20260305T192627Z
SUMMARY:LLIURAMENT PREMIS XX CONCURS NARRATIVA BREU I DIBUIX JOAN SOLÀ
DTSTART:20250517T160000Z
DTEND:20250517T183000Z
LOCATION:Sala Cultural
CLASS:PUBLIC
END:VEVENT
END:VCALENDAR
