BEGIN:VCALENDAR
PRODID:-//AT Content Types//AT Event//EN
VERSION:2.0
METHOD:PUBLISH
BEGIN:VEVENT
DTSTAMP:20260420T003126Z
CREATED:20260305T191540Z
UID:ATEvent-98b85d8045a645fd842ad1539c7a739d
LAST-MODIFIED:20260305T191544Z
SUMMARY:MULLA'T
DTSTART:20250706T143000Z
DTEND:20250706T180000Z
LOCATION:Piscines municipals
CLASS:PUBLIC
END:VEVENT
END:VCALENDAR
