BEGIN:VCALENDAR
PRODID:-//AT Content Types//AT Event//EN
VERSION:1.0
BEGIN:VEVENT
DTSTART:20250511T070000Z
DTEND:20250511T173000Z
DCREATED:20260305T192736Z
UID:ATEvent-25a5eca7292f4ca7a6c3f8722c0043e2
SEQUENCE:0
LAST-MODIFIED:20260305T192738Z
SUMMARY:OPEN PATINATGE
LOCATION:Pavelló poliesportiu
PRIORITY:3
TRANSP:0
END:VEVENT
END:VCALENDAR
