BEGIN:VCALENDAR
PRODID:-//AT Content Types//AT Event//EN
VERSION:1.0
BEGIN:VEVENT
DTSTART:20160226T193000Z
DTEND:20160226T213000Z
DCREATED:20160205T081135Z
UID:ATEvent-3679b8c454bb4f27b37a7e154648f2e3
SEQUENCE:0
LAST-MODIFIED:20160205T081601Z
SUMMARY:Presentació del llibre "Sóc de l’Oest" del Sr. Postureig de Lleida
LOCATION:Sala Multifuncional
PRIORITY:3
TRANSP:0
END:VEVENT
END:VCALENDAR
