BEGIN:VCALENDAR
PRODID:-//AT Content Types//AT Event//EN
VERSION:2.0
METHOD:PUBLISH
BEGIN:VEVENT
DTSTAMP:20260420T003127Z
CREATED:20260305T185543Z
UID:ATEvent-3288a9e6c21340f8b67785bd644b7128
LAST-MODIFIED:20260305T185545Z
SUMMARY:Presentació programa activitats Ass. Dones
DTSTART:20250916T163000Z
DTEND:20250916T180000Z
LOCATION:Sala d'Actes IDA
CONTACT:Associació de Dones Flor de Lis
CLASS:PUBLIC
END:VEVENT
END:VCALENDAR
