BEGIN:VCALENDAR
PRODID:-//AT Content Types//AT Event//EN
VERSION:2.0
METHOD:PUBLISH
BEGIN:VEVENT
DTSTAMP:20260420T003325Z
CREATED:20260305T182203Z
UID:ATEvent-24b0ff3df5664408a587abd2fa3c9528
LAST-MODIFIED:20260305T182206Z
SUMMARY:Representació "ELS PASTORETS CATALANS"
DTSTART:20251220T170000Z
DTEND:20251221T190000Z
LOCATION:Sala Cultural
CONTACT:Som els que som
CLASS:PUBLIC
END:VEVENT
END:VCALENDAR
