BEGIN:VCALENDAR
PRODID:-//AT Content Types//AT Event//EN
VERSION:1.0
BEGIN:VEVENT
DTSTART:20250623T193000Z
DTEND:20250623T215500Z
DCREATED:20260305T191804Z
UID:ATEvent-24ad2d72cece4db68ef49799e3427346
SEQUENCE:0
LAST-MODIFIED:20260305T191806Z
SUMMARY:Revetlla de Sant Joan
LOCATION:Piscines municipals
PRIORITY:3
TRANSP:0
END:VEVENT
END:VCALENDAR
