BEGIN:VCALENDAR
PRODID:-//AT Content Types//AT Event//EN
VERSION:1.0
BEGIN:VEVENT
DTSTART:20250730T190000Z
DTEND:20250730T203000Z
DCREATED:20260305T190927Z
UID:ATEvent-84cbeac786f6445ab9d433cddf85e4b9
SEQUENCE:0
LAST-MODIFIED:20260305T190929Z
SUMMARY:SARDANES A LA FRESCA
LOCATION:Piscines municipals
PRIORITY:3
TRANSP:0
END:VEVENT
END:VCALENDAR
