BEGIN:VCALENDAR
PRODID:-//AT Content Types//AT Event//EN
VERSION:1.0
BEGIN:VEVENT
DTSTART:20250813T190000Z
DTEND:20250813T203000Z
DCREATED:20260305T190401Z
UID:ATEvent-23c304028c6a40fe80f77f79b3cc908f
SEQUENCE:0
LAST-MODIFIED:20260305T190403Z
SUMMARY:SARDANES A LA FRESCA
LOCATION:Piscines municipals
PRIORITY:3
TRANSP:0
END:VEVENT
END:VCALENDAR
