BEGIN:VCALENDAR
PRODID:-//AT Content Types//AT Event//EN
VERSION:2.0
METHOD:PUBLISH
BEGIN:VEVENT
DTSTAMP:20260420T003632Z
CREATED:20260305T182009Z
UID:ATEvent-dd579f0153344983a41088104d3c81c5
LAST-MODIFIED:20260305T182013Z
SUMMARY:Sessió extraordinària del Ple
DTSTART:20251211T183000Z
DTEND:20251211T202000Z
LOCATION:Sala de plens Ajuntament
CONTACT:Ajuntament de Bell-lloc d'Urgell\, 973560100
CLASS:PUBLIC
END:VEVENT
END:VCALENDAR
