BEGIN:VCALENDAR
PRODID:-//AT Content Types//AT Event//EN
VERSION:2.0
METHOD:PUBLISH
BEGIN:VEVENT
DTSTAMP:20260419T213351Z
CREATED:20260305T165449Z
UID:ATEvent-0733667163df4618b571797ee6e3214a
LAST-MODIFIED:20260305T165452Z
SUMMARY:Sessió formativa per associacions i entitats
DTSTART:20260226T180000Z
DTEND:20260226T200000Z
LOCATION:Sala d'Actes IDA
CONTACT:IDA\, 973560100\, incubadora@bell-lloc.cat
URL:http://www.ida.cat
CLASS:PUBLIC
END:VEVENT
END:VCALENDAR
