BEGIN:VCALENDAR
PRODID:-//AT Content Types//AT Event//EN
VERSION:1.0
BEGIN:VEVENT
DTSTART:20251030T183000Z
DTEND:20251030T204000Z
DCREATED:20260305T184255Z
UID:ATEvent-50b944a3cd0246ae9e8e6768472f009f
SEQUENCE:0
LAST-MODIFIED:20260305T184258Z
SUMMARY:Sessió Ordinària del ple
LOCATION:Sala de plens Ajuntament
PRIORITY:3
TRANSP:0
END:VEVENT
END:VCALENDAR
