BEGIN:VCALENDAR
PRODID:-//AT Content Types//AT Event//EN
VERSION:2.0
METHOD:PUBLISH
BEGIN:VEVENT
DTSTAMP:20260420T003517Z
CREATED:20260305T185406Z
UID:ATEvent-dec62a5274d647e69b474ec96c480f4e
LAST-MODIFIED:20260305T185408Z
SUMMARY:Setmana Mobilitat Sostenible
DTSTART:20250916T070000Z
DTEND:20250922T190000Z
LOCATION:Varis
CLASS:PUBLIC
END:VEVENT
END:VCALENDAR
