BEGIN:VCALENDAR
PRODID:-//AT Content Types//AT Event//EN
VERSION:2.0
METHOD:PUBLISH
BEGIN:VEVENT
DTSTAMP:20260420T003640Z
CREATED:20260305T192502Z
UID:ATEvent-acec9170e5324b74acd0dc75e2d0def3
LAST-MODIFIED:20260305T192505Z
SUMMARY:SOPAR ASSOCIACIÓ CONTRA EL CÀNCER
DTSTART:20250517T183000Z
DTEND:20250517T213000Z
LOCATION:Sala Cultural
CLASS:PUBLIC
END:VEVENT
END:VCALENDAR
