BEGIN:VCALENDAR
PRODID:-//AT Content Types//AT Event//EN
VERSION:1.0
BEGIN:VEVENT
DTSTART:20250614T063000Z
DTEND:20250615T182000Z
DCREATED:20260305T192012Z
UID:ATEvent-baaf2d92c46d40bdb1ae4d2a539dd262
SEQUENCE:0
LAST-MODIFIED:20260305T192015Z
SUMMARY:Sortida Final de Curs Esplai la Costereta
LOCATION:Esglèsia Sant Miquel
PRIORITY:3
TRANSP:0
END:VEVENT
END:VCALENDAR
