BEGIN:VCALENDAR
PRODID:-//AT Content Types//AT Event//EN
VERSION:2.0
METHOD:PUBLISH
BEGIN:VEVENT
DTSTAMP:20260420T003745Z
CREATED:20260305T183758Z
UID:ATEvent-358e91dc472245caad5bb253ef8cf0be
LAST-MODIFIED:20260305T183801Z
SUMMARY:Taller “CREACIÓ D’ASSISTENTS DE WHATSAPP"
DTSTART:20251111T170000Z
DTEND:20251112T200000Z
LOCATION:Sala d'Actes IDA
CONTACT:IDA\, incubadora@bell-lloc.cat
URL:http://www.ida.cat
CLASS:PUBLIC
END:VEVENT
END:VCALENDAR
