BEGIN:VCALENDAR
PRODID:-//AT Content Types//AT Event//EN
VERSION:1.0
BEGIN:VEVENT
DTSTART:20250821T183000Z
DTEND:20250821T200000Z
DCREATED:20260305T190245Z
UID:ATEvent-f90e74453203449fb722f69212b6da80
SEQUENCE:0
LAST-MODIFIED:20260305T190247Z
SUMMARY:Taller de Bachata
LOCATION:Piscines municipals
PRIORITY:3
TRANSP:0
END:VEVENT
END:VCALENDAR
