BEGIN:VCALENDAR
PRODID:-//AT Content Types//AT Event//EN
VERSION:1.0
BEGIN:VEVENT
DTSTART:20260114T140000Z
DTEND:20260114T160000Z
DCREATED:20260305T181116Z
UID:ATEvent-799ac9bb5de34269a0609e7cd1d4f760
SEQUENCE:0
LAST-MODIFIED:20260305T181119Z
SUMMARY:Taller de formació per a voluntaris de colònies felines
PRIORITY:3
TRANSP:0
END:VEVENT
END:VCALENDAR
