BEGIN:VCALENDAR
PRODID:-//AT Content Types//AT Event//EN
VERSION:2.0
METHOD:PUBLISH
BEGIN:VEVENT
DTSTAMP:20260420T003159Z
CREATED:20260305T171048Z
UID:ATEvent-4e3e50abe6e44a88b50661fc84ffee67
LAST-MODIFIED:20260305T171051Z
SUMMARY:Taller "Orelletes"
DTSTART:20260219T180000Z
DTEND:20260219T201000Z
LOCATION:Sala Cultural (Bar)
CONTACT:L'Aixolet\, 973560100
CLASS:PUBLIC
END:VEVENT
END:VCALENDAR
