BEGIN:VCALENDAR
PRODID:-//AT Content Types//AT Event//EN
VERSION:1.0
BEGIN:VEVENT
DTSTART:20260129T183000Z
DTEND:20260129T203000Z
DCREATED:20260305T180005Z
UID:ATEvent-0258779689b14ea78c99033bfb7f3328
SEQUENCE:0
LAST-MODIFIED:20260305T180007Z
SUMMARY:Xerrada autoconsum compartit
LOCATION:Sala d'Actes IDA
PRIORITY:3
TRANSP:0
END:VEVENT
END:VCALENDAR
