BEGIN:VCALENDAR
PRODID:-//AT Content Types//AT Event//EN
VERSION:2.0
METHOD:PUBLISH
BEGIN:VEVENT
DTSTAMP:20260419T214057Z
CREATED:20260305T132958Z
UID:ATEvent-446731c8ef4a4f24a1a8154b51ab3670
LAST-MODIFIED:20260305T133001Z
SUMMARY:Xerrada-col·loqui Dia Internacional de la Dona
DTSTART:20260305T183000Z
DTEND:20260305T203000Z
LOCATION:Sala d'Actes IDA
CONTACT:Regidoria de Cultura\, 973560100\, lpla@bell-lloc.cat
URL:http://www.bell-lloc.cat
CLASS:PUBLIC
END:VEVENT
END:VCALENDAR
