BEGIN:VCALENDAR
PRODID:-//AT Content Types//AT Event//EN
VERSION:2.0
METHOD:PUBLISH
BEGIN:VEVENT
DTSTAMP:20260423T145415Z
CREATED:20180806T093733Z
UID:ATEvent-1d14fa0459f641afa8865b8ef49ca785
LAST-MODIFIED:20180806T093736Z
SUMMARY:ZUMBA a l'aire lliure
DTSTART:20180821T180000Z
DTEND:20180821T190000Z
LOCATION:Parc municipal
CONTACT:Associació de Joves
CLASS:PUBLIC
END:VEVENT
END:VCALENDAR
