BEGIN:VCALENDAR
PRODID:-//AT Content Types//AT Event//EN
VERSION:2.0
METHOD:PUBLISH
BEGIN:VEVENT
DTSTAMP:20260421T132648Z
CREATED:20260421T103138Z
UID:ATEvent-96d2741f8f7f4ff987bf3c0675943f2e
LAST-MODIFIED:20260421T103145Z
SUMMARY:PROGRAMA FESTA MAJOR MAIG 2026
DTSTART:20260430T160000Z
DTEND:20260503T193000Z
DESCRIPTION:Programa activitats festa major maig 2026
CLASS:PUBLIC
END:VEVENT
END:VCALENDAR
